BEGIN:VCALENDAR
VERSION:2.0
PRODID:-//Scribner Road PTA - ECPv6.15.20//NONSGML v1.0//EN
CALSCALE:GREGORIAN
METHOD:PUBLISH
X-ORIGINAL-URL:https://www.scribnerroadpta.org
X-WR-CALDESC:Events for Scribner Road PTA
REFRESH-INTERVAL;VALUE=DURATION:PT1H
X-Robots-Tag:noindex
X-PUBLISHED-TTL:PT1H
BEGIN:VTIMEZONE
TZID:America/New_York
BEGIN:DAYLIGHT
TZOFFSETFROM:-0500
TZOFFSETTO:-0400
TZNAME:EDT
DTSTART:20190310T070000
END:DAYLIGHT
BEGIN:STANDARD
TZOFFSETFROM:-0400
TZOFFSETTO:-0500
TZNAME:EST
DTSTART:20191103T060000
END:STANDARD
BEGIN:DAYLIGHT
TZOFFSETFROM:-0500
TZOFFSETTO:-0400
TZNAME:EDT
DTSTART:20200308T070000
END:DAYLIGHT
BEGIN:STANDARD
TZOFFSETFROM:-0400
TZOFFSETTO:-0500
TZNAME:EST
DTSTART:20201101T060000
END:STANDARD
BEGIN:DAYLIGHT
TZOFFSETFROM:-0500
TZOFFSETTO:-0400
TZNAME:EDT
DTSTART:20210314T070000
END:DAYLIGHT
BEGIN:STANDARD
TZOFFSETFROM:-0400
TZOFFSETTO:-0500
TZNAME:EST
DTSTART:20211107T060000
END:STANDARD
END:VTIMEZONE
BEGIN:VEVENT
DTSTART;TZID=America/New_York:20200415T190000
DTEND;TZID=America/New_York:20200415T200000
DTSTAMP:20260425T221748
CREATED:20190809T140058Z
LAST-MODIFIED:20190809T140058Z
UID:1663-1586977200-1586980800@www.scribnerroadpta.org
SUMMARY:PTA Meeting
DESCRIPTION:
URL:https://www.scribnerroadpta.org/calendar/pta-meeting-12/
LOCATION:Scribner Road Elementary School\, 1750 Scribner Road\, Penfield\, NY\, 14526\, United States
END:VEVENT
BEGIN:VEVENT
DTSTART;VALUE=DATE:20200415
DTEND;VALUE=DATE:20200416
DTSTAMP:20260425T221748
CREATED:20190906T174552Z
LAST-MODIFIED:20190906T174552Z
UID:1714-1586908800-1586995199@www.scribnerroadpta.org
SUMMARY:Harvest of the Month
DESCRIPTION:
URL:https://www.scribnerroadpta.org/calendar/harvest-of-the-month-8/
LOCATION:Scribner Road Elementary School\, 1750 Scribner Road\, Penfield\, NY\, 14526\, United States
END:VEVENT
BEGIN:VEVENT
DTSTART;TZID=America/New_York:20200327T183000
DTEND;TZID=America/New_York:20200327T200000
DTSTAMP:20260425T221748
CREATED:20200309T172032Z
LAST-MODIFIED:20200309T172032Z
UID:2095-1585333800-1585339200@www.scribnerroadpta.org
SUMMARY:Bingo Night
DESCRIPTION:$2 Per Bingo Card
URL:https://www.scribnerroadpta.org/calendar/bingo-night-2/
LOCATION:NY
END:VEVENT
BEGIN:VEVENT
DTSTART;VALUE=DATE:20200325
DTEND;VALUE=DATE:20200326
DTSTAMP:20260425T221748
CREATED:20191212T005558Z
LAST-MODIFIED:20191212T010741Z
UID:1880-1585094400-1585180799@www.scribnerroadpta.org
SUMMARY:Parent University - Digital Safety
DESCRIPTION:
URL:https://www.scribnerroadpta.org/calendar/parent-university-digital-safety/
LOCATION:TBD
END:VEVENT
BEGIN:VEVENT
DTSTART;TZID=America/New_York:20200318T190000
DTEND;TZID=America/New_York:20200318T200000
DTSTAMP:20260425T221748
CREATED:20190809T140007Z
LAST-MODIFIED:20200318T124833Z
UID:1661-1584558000-1584561600@www.scribnerroadpta.org
SUMMARY:PTA Meeting
DESCRIPTION:https://us04web.zoom.us/j/180329480 \nMeeting ID: 180-329-480
URL:https://www.scribnerroadpta.org/calendar/pta-meeting-11/
LOCATION:Scribner Road Elementary School\, 1750 Scribner Road\, Penfield\, NY\, 14526\, United States
END:VEVENT
BEGIN:VEVENT
DTSTART;VALUE=DATE:20200313
DTEND;VALUE=DATE:20200314
DTSTAMP:20260425T221748
CREATED:20190906T174509Z
LAST-MODIFIED:20190906T174509Z
UID:1712-1584057600-1584143999@www.scribnerroadpta.org
SUMMARY:Harvest of the Month
DESCRIPTION:
URL:https://www.scribnerroadpta.org/calendar/harvest-of-the-month-7/
LOCATION:Scribner Road Elementary School\, 1750 Scribner Road\, Penfield\, NY\, 14526\, United States
END:VEVENT
BEGIN:VEVENT
DTSTART;TZID=America/New_York:20200309T080000
DTEND;TZID=America/New_York:20200419T170000
DTSTAMP:20260425T221748
CREATED:20200108T014857Z
LAST-MODIFIED:20200108T014857Z
UID:1938-1583740800-1587315600@www.scribnerroadpta.org
SUMMARY:Reading Program
DESCRIPTION:
URL:https://www.scribnerroadpta.org/calendar/reading-program/
LOCATION:Scribner Road Elementary School\, 1750 Scribner Road\, Penfield\, NY\, 14526\, United States
END:VEVENT
BEGIN:VEVENT
DTSTART;TZID=America/New_York:20200306T183000
DTEND;TZID=America/New_York:20200306T210000
DTSTAMP:20260425T221748
CREATED:20191209T020355Z
LAST-MODIFIED:20200211T153227Z
UID:1863-1583519400-1583528400@www.scribnerroadpta.org
SUMMARY:Girls Night Out
DESCRIPTION:
URL:https://www.scribnerroadpta.org/calendar/girls-night-out/
LOCATION:Scribner Road Elementary School\, 1750 Scribner Road\, Penfield\, NY\, 14526\, United States
END:VEVENT
BEGIN:VEVENT
DTSTART;TZID=America/New_York:20200305T153000
DTEND;TZID=America/New_York:20200305T163000
DTSTAMP:20260425T221748
CREATED:20200108T020007Z
LAST-MODIFIED:20200108T020007Z
UID:1957-1583422200-1583425800@www.scribnerroadpta.org
SUMMARY:Planet Science
DESCRIPTION:Building Bridges and Feeding Families – 2nd Grade
URL:https://www.scribnerroadpta.org/calendar/planet-science-2/
LOCATION:Scribner Road Elementary School\, 1750 Scribner Road\, Penfield\, NY\, 14526\, United States
END:VEVENT
BEGIN:VEVENT
DTSTART;VALUE=DATE:20200302
DTEND;VALUE=DATE:20200303
DTSTAMP:20260425T221748
CREATED:20200108T014745Z
LAST-MODIFIED:20200108T014745Z
UID:1936-1583107200-1583193599@www.scribnerroadpta.org
SUMMARY:Reading Program Kick Off
DESCRIPTION:
URL:https://www.scribnerroadpta.org/calendar/reading-program-kick-off/
LOCATION:Scribner Road Elementary School\, 1750 Scribner Road\, Penfield\, NY\, 14526\, United States
END:VEVENT
BEGIN:VEVENT
DTSTART;VALUE=DATE:20200228
DTEND;VALUE=DATE:20200229
DTSTAMP:20260425T221748
CREATED:20191212T005434Z
LAST-MODIFIED:20191212T010804Z
UID:1878-1582848000-1582934399@www.scribnerroadpta.org
SUMMARY:Parent University - Health and Wellness Fair
DESCRIPTION:
URL:https://www.scribnerroadpta.org/calendar/parent-university-health-and-wellness-fair/
LOCATION:Scribner Road Elementary School\, 1750 Scribner Road\, Penfield\, NY\, 14526\, United States
END:VEVENT
BEGIN:VEVENT
DTSTART;TZID=America/New_York:20200227T153000
DTEND;TZID=America/New_York:20200227T163000
DTSTAMP:20260425T221748
CREATED:20200108T015856Z
LAST-MODIFIED:20200108T015856Z
UID:1954-1582817400-1582821000@www.scribnerroadpta.org
SUMMARY:Planet Science
DESCRIPTION:Building Bridges and Feeding Families – 3rd Grade
URL:https://www.scribnerroadpta.org/calendar/planet-science/
LOCATION:Scribner Road Elementary School\, 1750 Scribner Road\, Penfield\, NY\, 14526\, United States
END:VEVENT
BEGIN:VEVENT
DTSTART;TZID=America/New_York:20200213T190000
DTEND;TZID=America/New_York:20200213T200000
DTSTAMP:20260425T221748
CREATED:20190809T135910Z
LAST-MODIFIED:20190809T135910Z
UID:1659-1581620400-1581624000@www.scribnerroadpta.org
SUMMARY:PTA Meeting
DESCRIPTION:
URL:https://www.scribnerroadpta.org/calendar/pta-meeting-10/
LOCATION:Scribner Road Elementary School\, 1750 Scribner Road\, Penfield\, NY\, 14526\, United States
END:VEVENT
BEGIN:VEVENT
DTSTART;TZID=America/New_York:20200213T152000
DTEND;TZID=America/New_York:20200213T162000
DTSTAMP:20260425T221748
CREATED:20200108T015514Z
LAST-MODIFIED:20200108T015514Z
UID:1950-1581607200-1581610800@www.scribnerroadpta.org
SUMMARY:Chess Club
DESCRIPTION:
URL:https://www.scribnerroadpta.org/calendar/chess-club-6/
LOCATION:Scribner Road Elementary School\, 1750 Scribner Road\, Penfield\, NY\, 14526\, United States
END:VEVENT
BEGIN:VEVENT
DTSTART;VALUE=DATE:20200211
DTEND;VALUE=DATE:20200212
DTSTAMP:20260425T221748
CREATED:20191212T005321Z
LAST-MODIFIED:20191212T010812Z
UID:1876-1581379200-1581465599@www.scribnerroadpta.org
SUMMARY:Parent University - Eating Disorder Resource Fair
DESCRIPTION:
URL:https://www.scribnerroadpta.org/calendar/parent-university-eating-disorder-resource-fair/
LOCATION:TBD
END:VEVENT
BEGIN:VEVENT
DTSTART;TZID=America/New_York:20200210T153000
DTEND;TZID=America/New_York:20200210T163000
DTSTAMP:20260425T221748
CREATED:20200108T020735Z
LAST-MODIFIED:20200108T020735Z
UID:1971-1581348600-1581352200@www.scribnerroadpta.org
SUMMARY:STEM
DESCRIPTION:Physics
URL:https://www.scribnerroadpta.org/calendar/stem-5/
LOCATION:Scribner Road Elementary School\, 1750 Scribner Road\, Penfield\, NY\, 14526\, United States
END:VEVENT
BEGIN:VEVENT
DTSTART;TZID=America/New_York:20200206T170000
DTEND;TZID=America/New_York:20200206T190000
DTSTAMP:20260425T221748
CREATED:20200111T202345Z
LAST-MODIFIED:20200205T025033Z
UID:1997-1581008400-1581015600@www.scribnerroadpta.org
SUMMARY:McCare Night
DESCRIPTION:Located at Bay Towne McDonalds on Empire Boulevard
URL:https://www.scribnerroadpta.org/calendar/mccare-night-2/
LOCATION:Bay Towne McDonald’s\, 1854 Empire Blvd\, Webster\, NY\, 14580\, United States
END:VEVENT
BEGIN:VEVENT
DTSTART;TZID=America/New_York:20200206T152000
DTEND;TZID=America/New_York:20200206T162000
DTSTAMP:20260425T221748
CREATED:20200108T015425Z
LAST-MODIFIED:20200108T015425Z
UID:1948-1581002400-1581006000@www.scribnerroadpta.org
SUMMARY:Chess Club
DESCRIPTION:
URL:https://www.scribnerroadpta.org/calendar/chess-club-5/
LOCATION:Scribner Road Elementary School\, 1750 Scribner Road\, Penfield\, NY\, 14526\, United States
END:VEVENT
BEGIN:VEVENT
DTSTART;VALUE=DATE:20200205
DTEND;VALUE=DATE:20200206
DTSTAMP:20260425T221748
CREATED:20190906T174421Z
LAST-MODIFIED:20190906T174421Z
UID:1710-1580860800-1580947199@www.scribnerroadpta.org
SUMMARY:Harvest of the Month
DESCRIPTION:
URL:https://www.scribnerroadpta.org/calendar/harvest-of-the-month-6/
LOCATION:Scribner Road Elementary School\, 1750 Scribner Road\, Penfield\, NY\, 14526\, United States
END:VEVENT
BEGIN:VEVENT
DTSTART;TZID=America/New_York:20200203T153000
DTEND;TZID=America/New_York:20200203T163000
DTSTAMP:20260425T221748
CREATED:20200108T020633Z
LAST-MODIFIED:20200108T020633Z
UID:1969-1580743800-1580747400@www.scribnerroadpta.org
SUMMARY:STEM
DESCRIPTION:Chemistry
URL:https://www.scribnerroadpta.org/calendar/stem-4/
LOCATION:Scribner Road Elementary School\, 1750 Scribner Road\, Penfield\, NY\, 14526\, United States
END:VEVENT
BEGIN:VEVENT
DTSTART;VALUE=DATE:20200131
DTEND;VALUE=DATE:20200201
DTSTAMP:20260425T221748
CREATED:20191209T020809Z
LAST-MODIFIED:20191209T141903Z
UID:1871-1580428800-1580515199@www.scribnerroadpta.org
SUMMARY:4th Grade Roller Skating Party
DESCRIPTION:
URL:https://www.scribnerroadpta.org/calendar/4th-grade-roller-skating-party/
LOCATION:Scribner Road Elementary School\, 1750 Scribner Road\, Penfield\, NY\, 14526\, United States
END:VEVENT
BEGIN:VEVENT
DTSTART;TZID=America/New_York:20200130T152000
DTEND;TZID=America/New_York:20200130T162000
DTSTAMP:20260425T221748
CREATED:20200108T015328Z
LAST-MODIFIED:20200108T015328Z
UID:1946-1580397600-1580401200@www.scribnerroadpta.org
SUMMARY:Chess Club
DESCRIPTION:
URL:https://www.scribnerroadpta.org/calendar/chess-club-4/
LOCATION:Scribner Road Elementary School\, 1750 Scribner Road\, Penfield\, NY\, 14526\, United States
END:VEVENT
BEGIN:VEVENT
DTSTART;TZID=America/New_York:20200128T153000
DTEND;TZID=America/New_York:20200128T163000
DTSTAMP:20260425T221748
CREATED:20200108T020550Z
LAST-MODIFIED:20200108T020550Z
UID:1967-1580225400-1580229000@www.scribnerroadpta.org
SUMMARY:STEM
DESCRIPTION:Engineering
URL:https://www.scribnerroadpta.org/calendar/stem-3/
LOCATION:Scribner Road Elementary School\, 1750 Scribner Road\, Penfield\, NY\, 14526\, United States
END:VEVENT
BEGIN:VEVENT
DTSTART;TZID=America/New_York:20200126T080000
DTEND;TZID=America/New_York:20200126T110000
DTSTAMP:20260425T221748
CREATED:20191209T020057Z
LAST-MODIFIED:20191209T141658Z
UID:1861-1580025600-1580036400@www.scribnerroadpta.org
SUMMARY:Pancake Breakfast
DESCRIPTION:
URL:https://www.scribnerroadpta.org/calendar/pancake-breakfast/
LOCATION:Don’s Original Restaurant and Pub\, 2055 Fairport Nine Mile Point Rd\, Penfield\, NY\, 14526\, United States
END:VEVENT
BEGIN:VEVENT
DTSTART;VALUE=DATE:20200124
DTEND;VALUE=DATE:20200125
DTSTAMP:20260425T221748
CREATED:20191209T020723Z
LAST-MODIFIED:20200110T035930Z
UID:1869-1579824000-1579910399@www.scribnerroadpta.org
SUMMARY:5th Grade Roller Skating Party
DESCRIPTION:
URL:https://www.scribnerroadpta.org/calendar/2020-5th-grade-roller-skating-party/
LOCATION:Scribner Road Elementary School\, 1750 Scribner Road\, Penfield\, NY\, 14526\, United States
END:VEVENT
BEGIN:VEVENT
DTSTART;TZID=America/New_York:20200123T152000
DTEND;TZID=America/New_York:20200123T162000
DTSTAMP:20260425T221748
CREATED:20200108T015226Z
LAST-MODIFIED:20200108T015226Z
UID:1944-1579792800-1579796400@www.scribnerroadpta.org
SUMMARY:Chess Club
DESCRIPTION:
URL:https://www.scribnerroadpta.org/calendar/chess-club-3/
LOCATION:Scribner Road Elementary School\, 1750 Scribner Road\, Penfield\, NY\, 14526\, United States
END:VEVENT
BEGIN:VEVENT
DTSTART;TZID=America/New_York:20200121T153000
DTEND;TZID=America/New_York:20200121T163000
DTSTAMP:20260425T221748
CREATED:20200108T020501Z
LAST-MODIFIED:20200108T020501Z
UID:1965-1579620600-1579624200@www.scribnerroadpta.org
SUMMARY:STEM
DESCRIPTION:Electrical Circuits
URL:https://www.scribnerroadpta.org/calendar/stem-2/
LOCATION:Scribner Road Elementary School\, 1750 Scribner Road\, Penfield\, NY\, 14526\, United States
END:VEVENT
BEGIN:VEVENT
DTSTART;TZID=America/New_York:20200116T183000
DTEND;TZID=America/New_York:20200116T193000
DTSTAMP:20260425T221748
CREATED:20200108T015629Z
LAST-MODIFIED:20200108T015629Z
UID:1952-1579199400-1579203000@www.scribnerroadpta.org
SUMMARY:Planet Science - Annual Science Fair
DESCRIPTION:
URL:https://www.scribnerroadpta.org/calendar/planet-science-annual-science-fair/
LOCATION:Scribner Road Elementary School\, 1750 Scribner Road\, Penfield\, NY\, 14526\, United States
END:VEVENT
BEGIN:VEVENT
DTSTART;TZID=America/New_York:20200116T152000
DTEND;TZID=America/New_York:20200116T162000
DTSTAMP:20260425T221748
CREATED:20200108T015130Z
LAST-MODIFIED:20200108T015130Z
UID:1942-1579188000-1579191600@www.scribnerroadpta.org
SUMMARY:Chess Club
DESCRIPTION:
URL:https://www.scribnerroadpta.org/calendar/chess-club-2/
LOCATION:Scribner Road Elementary School\, 1750 Scribner Road\, Penfield\, NY\, 14526\, United States
END:VEVENT
BEGIN:VEVENT
DTSTART;VALUE=DATE:20200114
DTEND;VALUE=DATE:20200115
DTSTAMP:20260425T221748
CREATED:20191212T005203Z
LAST-MODIFIED:20191212T010820Z
UID:1873-1578960000-1579046399@www.scribnerroadpta.org
SUMMARY:Parent University - Intelligent Minds Event
DESCRIPTION:
URL:https://www.scribnerroadpta.org/calendar/parent-university-intelligent-minds-event/
LOCATION:TBD
END:VEVENT
END:VCALENDAR