BEGIN:VCALENDAR
VERSION:2.0
PRODID:-//Scribner Road PTA - ECPv6.15.20//NONSGML v1.0//EN
CALSCALE:GREGORIAN
METHOD:PUBLISH
X-ORIGINAL-URL:https://www.scribnerroadpta.org
X-WR-CALDESC:Events for Scribner Road PTA
REFRESH-INTERVAL;VALUE=DURATION:PT1H
X-Robots-Tag:noindex
X-PUBLISHED-TTL:PT1H
BEGIN:VTIMEZONE
TZID:America/New_York
BEGIN:DAYLIGHT
TZOFFSETFROM:-0500
TZOFFSETTO:-0400
TZNAME:EDT
DTSTART:20220313T070000
END:DAYLIGHT
BEGIN:STANDARD
TZOFFSETFROM:-0400
TZOFFSETTO:-0500
TZNAME:EST
DTSTART:20221106T060000
END:STANDARD
BEGIN:DAYLIGHT
TZOFFSETFROM:-0500
TZOFFSETTO:-0400
TZNAME:EDT
DTSTART:20230312T070000
END:DAYLIGHT
BEGIN:STANDARD
TZOFFSETFROM:-0400
TZOFFSETTO:-0500
TZNAME:EST
DTSTART:20231105T060000
END:STANDARD
BEGIN:DAYLIGHT
TZOFFSETFROM:-0500
TZOFFSETTO:-0400
TZNAME:EDT
DTSTART:20240310T070000
END:DAYLIGHT
BEGIN:STANDARD
TZOFFSETFROM:-0400
TZOFFSETTO:-0500
TZNAME:EST
DTSTART:20241103T060000
END:STANDARD
END:VTIMEZONE
BEGIN:VEVENT
DTSTART;VALUE=DATE:20230403
DTEND;VALUE=DATE:20230408
DTSTAMP:20260425T121404
CREATED:20230304T154846Z
LAST-MODIFIED:20230304T154846Z
UID:4639-1680480000-1680911999@www.scribnerroadpta.org
SUMMARY:NO SCHOOL
DESCRIPTION:Enjoy your Spring Break!
URL:https://www.scribnerroadpta.org/calendar/no-school-3/
END:VEVENT
BEGIN:VEVENT
DTSTART;VALUE=DATE:20230331
DTEND;VALUE=DATE:20230401
DTSTAMP:20260425T121405
CREATED:20230228T141859Z
LAST-MODIFIED:20230228T141859Z
UID:4633-1680220800-1680307199@www.scribnerroadpta.org
SUMMARY:Square1Art Deadline
DESCRIPTION:
URL:https://www.scribnerroadpta.org/calendar/square1art-deadline/
END:VEVENT
BEGIN:VEVENT
DTSTART;VALUE=DATE:20230324
DTEND;VALUE=DATE:20230325
DTSTAMP:20260425T121405
CREATED:20230228T141032Z
LAST-MODIFIED:20230228T141032Z
UID:4626-1679616000-1679702399@www.scribnerroadpta.org
SUMMARY:Boosterthon Dance Fit Event Day!
DESCRIPTION:
URL:https://www.scribnerroadpta.org/calendar/boosterthon-dance-fit-event-day/
END:VEVENT
BEGIN:VEVENT
DTSTART;VALUE=DATE:20230320
DTEND;VALUE=DATE:20230321
DTSTAMP:20260425T121405
CREATED:20230228T141825Z
LAST-MODIFIED:20230228T141825Z
UID:4631-1679270400-1679356799@www.scribnerroadpta.org
SUMMARY:Square1Art Order Forms
DESCRIPTION:
URL:https://www.scribnerroadpta.org/calendar/square1art-order-forms/
END:VEVENT
BEGIN:VEVENT
DTSTART;VALUE=DATE:20230320
DTEND;VALUE=DATE:20230324
DTSTAMP:20260425T121405
CREATED:20230228T140913Z
LAST-MODIFIED:20230228T140913Z
UID:4622-1679270400-1679615999@www.scribnerroadpta.org
SUMMARY:Boosterthon
DESCRIPTION:Big School Fundraiser!
URL:https://www.scribnerroadpta.org/calendar/boosterthon-2/
LOCATION:Scribner Road Elementary School\, 1750 Scribner Road\, Penfield\, NY\, 14526\, United States
END:VEVENT
BEGIN:VEVENT
DTSTART;TZID=America/New_York:20230315T183000
DTEND;TZID=America/New_York:20230315T200000
DTSTAMP:20260425T121405
CREATED:20230228T141633Z
LAST-MODIFIED:20230228T141633Z
UID:4628-1678905000-1678910400@www.scribnerroadpta.org
SUMMARY:Planet Science Fair
DESCRIPTION:This date is optional for students who choose to do a science fair project. \nRegardless of whether your child chooses to do a project or not\, we invite all parents and students to come and see the projects their peers are presenting in the Cafeteria.  \n 
URL:https://www.scribnerroadpta.org/calendar/planet-science-fair/
LOCATION:Scribner Road Elementary School\, 1750 Scribner Road\, Penfield\, NY\, 14526\, United States
ORGANIZER;CN="Scribner Planet Science":MAILTO:planetscience@scribnerroadpta.org
END:VEVENT
BEGIN:VEVENT
DTSTART;VALUE=DATE:20230314
DTEND;VALUE=DATE:20230318
DTSTAMP:20260425T121405
CREATED:20230228T140717Z
LAST-MODIFIED:20230228T140749Z
UID:4620-1678752000-1679097599@www.scribnerroadpta.org
SUMMARY:Boosterthon
DESCRIPTION:Big School Fundraiser!
URL:https://www.scribnerroadpta.org/calendar/boosterthon/
LOCATION:Scribner Road Elementary School\, 1750 Scribner Road\, Penfield\, NY\, 14526\, United States
END:VEVENT
BEGIN:VEVENT
DTSTART;VALUE=DATE:20230313
DTEND;VALUE=DATE:20230314
DTSTAMP:20260425T121405
CREATED:20230228T140952Z
LAST-MODIFIED:20230228T140952Z
UID:4624-1678665600-1678751999@www.scribnerroadpta.org
SUMMARY:Boosterthon Kick Off
DESCRIPTION:
URL:https://www.scribnerroadpta.org/calendar/boosterthon-kick-off/
LOCATION:Scribner Road Elementary School\, 1750 Scribner Road\, Penfield\, NY\, 14526\, United States
END:VEVENT
BEGIN:VEVENT
DTSTART;TZID=America/New_York:20230310T190000
DTEND;TZID=America/New_York:20230310T200000
DTSTAMP:20260425T121405
CREATED:20230228T140419Z
LAST-MODIFIED:20230228T140419Z
UID:4618-1678474800-1678478400@www.scribnerroadpta.org
SUMMARY:Bingo Night
DESCRIPTION:
URL:https://www.scribnerroadpta.org/calendar/bingo-night/
LOCATION:Scribner Road Elementary School\, 1750 Scribner Road\, Penfield\, NY\, 14526\, United States
END:VEVENT
BEGIN:VEVENT
DTSTART;VALUE=DATE:20230310
DTEND;VALUE=DATE:20230311
DTSTAMP:20260425T121405
CREATED:20230228T140157Z
LAST-MODIFIED:20230228T140157Z
UID:4616-1678406400-1678492799@www.scribnerroadpta.org
SUMMARY:Teacher Treats
DESCRIPTION:
URL:https://www.scribnerroadpta.org/calendar/teacher-treats-2/
LOCATION:Scribner Road Elementary School\, 1750 Scribner Road\, Penfield\, NY\, 14526\, United States
END:VEVENT
BEGIN:VEVENT
DTSTART;TZID=America/New_York:20230308T190000
DTEND;TZID=America/New_York:20230308T200000
DTSTAMP:20260425T121405
CREATED:20220813T012308Z
LAST-MODIFIED:20220813T012308Z
UID:4183-1678302000-1678305600@www.scribnerroadpta.org
SUMMARY:March PTA Meeting
DESCRIPTION:PTA Meetings are held via Zoom.  A link will be provided each month on the Scribner Road PTA social media pages.  Meetings begin at 7:00pm.  All parents\, teachers and staff are welcome to attend.
URL:https://www.scribnerroadpta.org/calendar/march-pta-meeting/
END:VEVENT
BEGIN:VEVENT
DTSTART;VALUE=DATE:20230303
DTEND;VALUE=DATE:20230304
DTSTAMP:20260425T121405
CREATED:20230227T165857Z
LAST-MODIFIED:20230227T165918Z
UID:4613-1677801600-1677887999@www.scribnerroadpta.org
SUMMARY:NO SCHOOL
DESCRIPTION:K-5 Conference Day. \nEnjoy your day off!
URL:https://www.scribnerroadpta.org/calendar/no-school-2/
END:VEVENT
BEGIN:VEVENT
DTSTART;VALUE=DATE:20230228
DTEND;VALUE=DATE:20230301
DTSTAMP:20260425T121405
CREATED:20230128T155514Z
LAST-MODIFIED:20230128T155514Z
UID:4547-1677542400-1677628799@www.scribnerroadpta.org
SUMMARY:Lego Club 3-5
DESCRIPTION:
URL:https://www.scribnerroadpta.org/calendar/lego-club-3-5-4/
LOCATION:Scribner Road Elementary School\, 1750 Scribner Road\, Penfield\, NY\, 14526\, United States
END:VEVENT
BEGIN:VEVENT
DTSTART;VALUE=DATE:20230220
DTEND;VALUE=DATE:20230225
DTSTAMP:20260425T121405
CREATED:20230128T162518Z
LAST-MODIFIED:20230128T162518Z
UID:4558-1676851200-1677283199@www.scribnerroadpta.org
SUMMARY:NO SCHOOL
DESCRIPTION:Enjoy your February Break!
URL:https://www.scribnerroadpta.org/calendar/no-school/
END:VEVENT
BEGIN:VEVENT
DTSTART;TZID=America/New_York:20230216T152000
DTEND;TZID=America/New_York:20230216T162000
DTSTAMP:20260425T121405
CREATED:20230128T155141Z
LAST-MODIFIED:20230128T155141Z
UID:4536-1676560800-1676564400@www.scribnerroadpta.org
SUMMARY:Chess Club After School - 4:20
DESCRIPTION:
URL:https://www.scribnerroadpta.org/calendar/chess-club-after-school-420-5/
LOCATION:Scribner Road Elementary School\, 1750 Scribner Road\, Penfield\, NY\, 14526\, United States
END:VEVENT
BEGIN:VEVENT
DTSTART;TZID=America/New_York:20230215T190000
DTEND;TZID=America/New_York:20230215T200000
DTSTAMP:20260425T121405
CREATED:20220813T012200Z
LAST-MODIFIED:20230208T220021Z
UID:4181-1676487600-1676491200@www.scribnerroadpta.org
SUMMARY:February PTA Meeting
DESCRIPTION:Join Us for our first PTA Meeting of 2023!!\n \nWednesday\, February 15th @ 7:00 PM via Zoom\n \nhttps://us06web.zoom.us/j/82586558627?pwd=SXFybWYzc3BCNVZxT3FuaE40bG02Zz09\n \nMeeting ID: 825 8655 8627\nPasscode: 135546\n \nWe hope to see you there! \n\n\n—\nwebmaster mailing list\nwebmaster@scribnerroadpta.org
URL:https://www.scribnerroadpta.org/calendar/february-pta-meeting-2/
ATTACH;FMTTYPE=image/png:https://www.scribnerroadpta.org/wp-content/uploads/2022/08/PTA-Meeting-Reminder.png
END:VEVENT
BEGIN:VEVENT
DTSTART;VALUE=DATE:20230215
DTEND;VALUE=DATE:20230216
DTSTAMP:20260425T121405
CREATED:20230128T154217Z
LAST-MODIFIED:20230128T154541Z
UID:4533-1676419200-1676505599@www.scribnerroadpta.org
SUMMARY:Board Game Club K-2
DESCRIPTION:
URL:https://www.scribnerroadpta.org/calendar/board-game-club-k-2-3/
LOCATION:Scribner Road Elementary School\, 1750 Scribner Road\, Penfield\, NY\, 14526\, United States
END:VEVENT
BEGIN:VEVENT
DTSTART;TZID=America/New_York:20230214T180000
DTEND;TZID=America/New_York:20230214T200000
DTSTAMP:20260425T121405
CREATED:20230128T162018Z
LAST-MODIFIED:20230128T162018Z
UID:4555-1676397600-1676404800@www.scribnerroadpta.org
SUMMARY:Open Skate Valentine's Day
DESCRIPTION:Join Scribner PTA for a Valentine’s Day Open Skate Event @ Dick’s House of Sport! \nPre-Register using the link below\, or purchase tickets/skate at the door.   \nhttps://bit.ly/scribnerpta \nEvent is open from 6-8pm on Tuesday\, February 14th @ 200 Eastview Mall \nAll are welcome – spread the Love! \n**All funds earned at this event will be applied to Boosterthon T-Shirt purchases for Scribner Staff & Students**
URL:https://www.scribnerroadpta.org/calendar/open-skate-valentines-day/
LOCATION:Dick’s House of Sport\, 200 Eastview Mall
END:VEVENT
BEGIN:VEVENT
DTSTART;VALUE=DATE:20230214
DTEND;VALUE=DATE:20230215
DTSTAMP:20260425T121405
CREATED:20230128T155502Z
LAST-MODIFIED:20230128T155502Z
UID:4546-1676332800-1676419199@www.scribnerroadpta.org
SUMMARY:Lego Club 3-5
DESCRIPTION:
URL:https://www.scribnerroadpta.org/calendar/lego-club-3-5-3/
LOCATION:Scribner Road Elementary School\, 1750 Scribner Road\, Penfield\, NY\, 14526\, United States
END:VEVENT
BEGIN:VEVENT
DTSTART;VALUE=DATE:20230213
DTEND;VALUE=DATE:20230214
DTSTAMP:20260425T121405
CREATED:20230128T161817Z
LAST-MODIFIED:20230128T161817Z
UID:4553-1676246400-1676332799@www.scribnerroadpta.org
SUMMARY:Square1Art Pickup
DESCRIPTION:
URL:https://www.scribnerroadpta.org/calendar/square1art-pickup/
END:VEVENT
BEGIN:VEVENT
DTSTART;TZID=America/New_York:20230209T152000
DTEND;TZID=America/New_York:20230209T162000
DTSTAMP:20260425T121405
CREATED:20230128T155127Z
LAST-MODIFIED:20230128T155127Z
UID:4537-1675956000-1675959600@www.scribnerroadpta.org
SUMMARY:Chess Club After School - 4:20
DESCRIPTION:
URL:https://www.scribnerroadpta.org/calendar/chess-club-after-school-420-4/
LOCATION:Scribner Road Elementary School\, 1750 Scribner Road\, Penfield\, NY\, 14526\, United States
END:VEVENT
BEGIN:VEVENT
DTSTART;TZID=America/New_York:20230208T153000
DTEND;TZID=America/New_York:20230208T163000
DTSTAMP:20260425T121405
CREATED:20230128T161639Z
LAST-MODIFIED:20230128T161639Z
UID:4551-1675870200-1675873800@www.scribnerroadpta.org
SUMMARY:Planet Science After School - 4:30
DESCRIPTION:Lego Engineering & Hypothesis testing \nPlanet Science Club will be using Lego Engineering kits to build bridges. \nWe will be having a canned food drive as well.\nEach child should bring in 3 (or more) canned goods. \nWe’ll use our cans as weights to test the strength of our bridges\, and then afterward\, we’ll donate the goods to the Penfield Ecumenical Food Shelf.
URL:https://www.scribnerroadpta.org/calendar/planet-science-after-school-430/
LOCATION:Scribner Road Elementary School\, 1750 Scribner Road\, Penfield\, NY\, 14526\, United States
END:VEVENT
BEGIN:VEVENT
DTSTART;VALUE=DATE:20230208
DTEND;VALUE=DATE:20230209
DTSTAMP:20260425T121405
CREATED:20230128T154144Z
LAST-MODIFIED:20230128T154635Z
UID:4531-1675814400-1675900799@www.scribnerroadpta.org
SUMMARY:Board Game Club K-2
DESCRIPTION:
URL:https://www.scribnerroadpta.org/calendar/board-game-club-k-2-2/
LOCATION:Scribner Road Elementary School\, 1750 Scribner Road\, Penfield\, NY\, 14526\, United States
END:VEVENT
BEGIN:VEVENT
DTSTART;VALUE=DATE:20230207
DTEND;VALUE=DATE:20230208
DTSTAMP:20260425T121405
CREATED:20230128T155452Z
LAST-MODIFIED:20230128T155452Z
UID:4545-1675728000-1675814399@www.scribnerroadpta.org
SUMMARY:Lego Club 3-5
DESCRIPTION:
URL:https://www.scribnerroadpta.org/calendar/lego-club-3-5-2/
LOCATION:Scribner Road Elementary School\, 1750 Scribner Road\, Penfield\, NY\, 14526\, United States
END:VEVENT
BEGIN:VEVENT
DTSTART;VALUE=DATE:20230203
DTEND;VALUE=DATE:20230204
DTSTAMP:20260425T121405
CREATED:20230128T155254Z
LAST-MODIFIED:20230128T155254Z
UID:4543-1675382400-1675468799@www.scribnerroadpta.org
SUMMARY:Teacher Treats
DESCRIPTION:
URL:https://www.scribnerroadpta.org/calendar/teacher-treats/
LOCATION:Scribner Road Elementary School\, 1750 Scribner Road\, Penfield\, NY\, 14526\, United States
END:VEVENT
BEGIN:VEVENT
DTSTART;TZID=America/New_York:20230202T152000
DTEND;TZID=America/New_York:20230202T162000
DTSTAMP:20260425T121405
CREATED:20230128T155105Z
LAST-MODIFIED:20230128T155105Z
UID:4538-1675351200-1675354800@www.scribnerroadpta.org
SUMMARY:Chess Club After School - 4:20
DESCRIPTION:
URL:https://www.scribnerroadpta.org/calendar/chess-club-after-school-420-3/
LOCATION:Scribner Road Elementary School\, 1750 Scribner Road\, Penfield\, NY\, 14526\, United States
END:VEVENT
BEGIN:VEVENT
DTSTART;VALUE=DATE:20230201
DTEND;VALUE=DATE:20230202
DTSTAMP:20260425T121405
CREATED:20230128T154103Z
LAST-MODIFIED:20230128T154705Z
UID:4529-1675209600-1675295999@www.scribnerroadpta.org
SUMMARY:Board Game Club K-2
DESCRIPTION:
URL:https://www.scribnerroadpta.org/calendar/board-game-club-k-2/
LOCATION:Scribner Road Elementary School\, 1750 Scribner Road\, Penfield\, NY\, 14526\, United States
END:VEVENT
BEGIN:VEVENT
DTSTART;VALUE=DATE:20230131
DTEND;VALUE=DATE:20230201
DTSTAMP:20260425T121405
CREATED:20230117T014341Z
LAST-MODIFIED:20230128T154800Z
UID:4479-1675123200-1675209599@www.scribnerroadpta.org
SUMMARY:Lego Club 3-5
DESCRIPTION:
URL:https://www.scribnerroadpta.org/calendar/lego-club-3-5/
LOCATION:Scribner Road Elementary School\, 1750 Scribner Road\, Penfield\, NY\, 14526\, United States
END:VEVENT
BEGIN:VEVENT
DTSTART;VALUE=DATE:20230128
DTEND;VALUE=DATE:20230129
DTSTAMP:20260425T121405
CREATED:20230117T015950Z
LAST-MODIFIED:20230117T015950Z
UID:4490-1674864000-1674950399@www.scribnerroadpta.org
SUMMARY:Amerk's Night 6:05pm
DESCRIPTION:
URL:https://www.scribnerroadpta.org/calendar/amerks-night-605pm/
END:VEVENT
BEGIN:VEVENT
DTSTART;TZID=America/New_York:20230126T152000
DTEND;TZID=America/New_York:20230126T162000
DTSTAMP:20260425T121405
CREATED:20230117T015639Z
LAST-MODIFIED:20230117T015639Z
UID:4488-1674746400-1674750000@www.scribnerroadpta.org
SUMMARY:Chess Club After School - 4:20
DESCRIPTION:
URL:https://www.scribnerroadpta.org/calendar/chess-club-after-school-420-2/
LOCATION:Scribner Road Elementary School\, 1750 Scribner Road\, Penfield\, NY\, 14526\, United States
END:VEVENT
END:VCALENDAR