BEGIN:VCALENDAR
VERSION:2.0
PRODID:-//Scribner Road Chess Club - ECPv6.15.20//NONSGML v1.0//EN
CALSCALE:GREGORIAN
METHOD:PUBLISH
X-WR-CALNAME:Scribner Road Chess Club
X-ORIGINAL-URL:https://www.scribnerroadpta.org/chessclub
X-WR-CALDESC:Events for Scribner Road Chess Club
REFRESH-INTERVAL;VALUE=DURATION:PT1H
X-Robots-Tag:noindex
X-PUBLISHED-TTL:PT1H
BEGIN:VTIMEZONE
TZID:America/New_York
BEGIN:DAYLIGHT
TZOFFSETFROM:-0500
TZOFFSETTO:-0400
TZNAME:EDT
DTSTART:20180311T070000
END:DAYLIGHT
BEGIN:STANDARD
TZOFFSETFROM:-0400
TZOFFSETTO:-0500
TZNAME:EST
DTSTART:20181104T060000
END:STANDARD
BEGIN:DAYLIGHT
TZOFFSETFROM:-0500
TZOFFSETTO:-0400
TZNAME:EDT
DTSTART:20190310T070000
END:DAYLIGHT
BEGIN:STANDARD
TZOFFSETFROM:-0400
TZOFFSETTO:-0500
TZNAME:EST
DTSTART:20191103T060000
END:STANDARD
BEGIN:DAYLIGHT
TZOFFSETFROM:-0500
TZOFFSETTO:-0400
TZNAME:EDT
DTSTART:20200308T070000
END:DAYLIGHT
BEGIN:STANDARD
TZOFFSETFROM:-0400
TZOFFSETTO:-0500
TZNAME:EST
DTSTART:20201101T060000
END:STANDARD
BEGIN:DAYLIGHT
TZOFFSETFROM:-0500
TZOFFSETTO:-0400
TZNAME:EDT
DTSTART:20210314T070000
END:DAYLIGHT
BEGIN:STANDARD
TZOFFSETFROM:-0400
TZOFFSETTO:-0500
TZNAME:EST
DTSTART:20211107T060000
END:STANDARD
END:VTIMEZONE
BEGIN:VEVENT
DTSTART;TZID=America/New_York:20200116T152000
DTEND;TZID=America/New_York:20200116T162000
DTSTAMP:20260424T143354
CREATED:20191127T023045Z
LAST-MODIFIED:20191127T023045Z
UID:195-1579188000-1579191600@www.scribnerroadpta.org
SUMMARY:Chess Club
DESCRIPTION:
URL:https://www.scribnerroadpta.org/chessclub/calendar/chess-club-2/
END:VEVENT
BEGIN:VEVENT
DTSTART;TZID=America/New_York:20200109T152000
DTEND;TZID=America/New_York:20200109T162000
DTSTAMP:20260424T143354
CREATED:20191127T022923Z
LAST-MODIFIED:20191127T022923Z
UID:193-1578583200-1578586800@www.scribnerroadpta.org
SUMMARY:Chess Club
DESCRIPTION:
URL:https://www.scribnerroadpta.org/chessclub/calendar/chess-club/
END:VEVENT
BEGIN:VEVENT
DTSTART;VALUE=DATE:20191213
DTEND;VALUE=DATE:20191214
DTSTAMP:20260424T143354
CREATED:20191127T022523Z
LAST-MODIFIED:20191127T022523Z
UID:191-1576195200-1576281599@www.scribnerroadpta.org
SUMMARY:Registration Due
DESCRIPTION:
URL:https://www.scribnerroadpta.org/chessclub/calendar/registration-due/
END:VEVENT
END:VCALENDAR