BEGIN:VCALENDAR
VERSION:2.0
PRODID:-//Planet Science Club - ECPv6.15.20//NONSGML v1.0//EN
CALSCALE:GREGORIAN
METHOD:PUBLISH
X-ORIGINAL-URL:https://www.scribnerroadpta.org/planetscience
X-WR-CALDESC:Events for Planet Science Club
REFRESH-INTERVAL;VALUE=DURATION:PT1H
X-Robots-Tag:noindex
X-PUBLISHED-TTL:PT1H
BEGIN:VTIMEZONE
TZID:America/New_York
BEGIN:DAYLIGHT
TZOFFSETFROM:-0500
TZOFFSETTO:-0400
TZNAME:EDT
DTSTART:20180311T070000
END:DAYLIGHT
BEGIN:STANDARD
TZOFFSETFROM:-0400
TZOFFSETTO:-0500
TZNAME:EST
DTSTART:20181104T060000
END:STANDARD
BEGIN:DAYLIGHT
TZOFFSETFROM:-0500
TZOFFSETTO:-0400
TZNAME:EDT
DTSTART:20190310T070000
END:DAYLIGHT
BEGIN:STANDARD
TZOFFSETFROM:-0400
TZOFFSETTO:-0500
TZNAME:EST
DTSTART:20191103T060000
END:STANDARD
BEGIN:DAYLIGHT
TZOFFSETFROM:-0500
TZOFFSETTO:-0400
TZNAME:EDT
DTSTART:20200308T070000
END:DAYLIGHT
BEGIN:STANDARD
TZOFFSETFROM:-0400
TZOFFSETTO:-0500
TZNAME:EST
DTSTART:20201101T060000
END:STANDARD
BEGIN:DAYLIGHT
TZOFFSETFROM:-0500
TZOFFSETTO:-0400
TZNAME:EDT
DTSTART:20210314T070000
END:DAYLIGHT
BEGIN:STANDARD
TZOFFSETFROM:-0400
TZOFFSETTO:-0500
TZNAME:EST
DTSTART:20211107T060000
END:STANDARD
BEGIN:DAYLIGHT
TZOFFSETFROM:-0500
TZOFFSETTO:-0400
TZNAME:EDT
DTSTART:20220313T070000
END:DAYLIGHT
BEGIN:STANDARD
TZOFFSETFROM:-0400
TZOFFSETTO:-0500
TZNAME:EST
DTSTART:20221106T060000
END:STANDARD
BEGIN:DAYLIGHT
TZOFFSETFROM:-0500
TZOFFSETTO:-0400
TZNAME:EDT
DTSTART:20230312T070000
END:DAYLIGHT
BEGIN:STANDARD
TZOFFSETFROM:-0400
TZOFFSETTO:-0500
TZNAME:EST
DTSTART:20231105T060000
END:STANDARD
BEGIN:DAYLIGHT
TZOFFSETFROM:-0500
TZOFFSETTO:-0400
TZNAME:EDT
DTSTART:20240310T070000
END:DAYLIGHT
BEGIN:STANDARD
TZOFFSETFROM:-0400
TZOFFSETTO:-0500
TZNAME:EST
DTSTART:20241103T060000
END:STANDARD
BEGIN:DAYLIGHT
TZOFFSETFROM:-0500
TZOFFSETTO:-0400
TZNAME:EDT
DTSTART:20250309T070000
END:DAYLIGHT
BEGIN:STANDARD
TZOFFSETFROM:-0400
TZOFFSETTO:-0500
TZNAME:EST
DTSTART:20251102T060000
END:STANDARD
END:VTIMEZONE
BEGIN:VEVENT
DTSTART;TZID=America/New_York:20240515T183000
DTEND;TZID=America/New_York:20240515T193000
DTSTAMP:20260423T154430
CREATED:20231101T225254Z
LAST-MODIFIED:20231102T134244Z
UID:330-1715797800-1715801400@www.scribnerroadpta.org
SUMMARY:Meeting 6 - Annual Planet Science Fair
DESCRIPTION:
URL:https://www.scribnerroadpta.org/planetscience/calendar/meeting-6-annual-planet-science-fair/
LOCATION:Scribner Road Elementary School\, 1750 Scribner Road\, Penfield\, 14526\, United States
END:VEVENT
BEGIN:VEVENT
DTSTART;TZID=America/New_York:20240424T153000
DTEND;TZID=America/New_York:20240424T163000
DTSTAMP:20260423T154430
CREATED:20231101T225216Z
LAST-MODIFIED:20231101T225216Z
UID:328-1713972600-1713976200@www.scribnerroadpta.org
SUMMARY:Meeting 5 - Earth Day Science in Nature
DESCRIPTION:
URL:https://www.scribnerroadpta.org/planetscience/calendar/meeting-5-earth-day-science-in-nature/
LOCATION:Scribner Road Elementary School\, 1750 Scribner Road\, Penfield\, 14526\, United States
END:VEVENT
BEGIN:VEVENT
DTSTART;TZID=America/New_York:20240320T153000
DTEND;TZID=America/New_York:20240320T170000
DTSTAMP:20260423T154430
CREATED:20231101T225128Z
LAST-MODIFIED:20231101T225128Z
UID:326-1710948600-1710954000@www.scribnerroadpta.org
SUMMARY:Meeting 4 - The Periodic "Dinner" Table
DESCRIPTION:
URL:https://www.scribnerroadpta.org/planetscience/calendar/meeting-4-the-periodic-dinner-table/
LOCATION:Scribner Road Elementary School\, 1750 Scribner Road\, Penfield\, 14526\, United States
END:VEVENT
BEGIN:VEVENT
DTSTART;TZID=America/New_York:20240228T153000
DTEND;TZID=America/New_York:20240228T163000
DTSTAMP:20260423T154430
CREATED:20231101T225031Z
LAST-MODIFIED:20231101T225031Z
UID:324-1709134200-1709137800@www.scribnerroadpta.org
SUMMARY:Meeting 3 - Bridge Building & Canned Soup Drive
DESCRIPTION:
URL:https://www.scribnerroadpta.org/planetscience/calendar/meeting-3-bridge-building-canned-soup-drive/
LOCATION:Scribner Road Elementary School\, 1750 Scribner Road\, Penfield\, 14526\, United States
END:VEVENT
BEGIN:VEVENT
DTSTART;TZID=America/New_York:20240117T153000
DTEND;TZID=America/New_York:20240117T163000
DTSTAMP:20260423T154430
CREATED:20231101T224920Z
LAST-MODIFIED:20231110T185311Z
UID:322-1705505400-1705509000@www.scribnerroadpta.org
SUMMARY:Meeting 2 - Date confirmed\, but awaiting presenter confirmation
DESCRIPTION:
URL:https://www.scribnerroadpta.org/planetscience/calendar/phs-robotics-team-rolling-thunder/
LOCATION:Scribner Road Elementary School\, 1750 Scribner Road\, Penfield\, 14526\, United States
END:VEVENT
BEGIN:VEVENT
DTSTART;TZID=America/New_York:20231206T153000
DTEND;TZID=America/New_York:20231206T163000
DTSTAMP:20260423T154430
CREATED:20231101T224835Z
LAST-MODIFIED:20231101T224835Z
UID:320-1701876600-1701880200@www.scribnerroadpta.org
SUMMARY:Meeting 1 - Seneca Park ZooMobile
DESCRIPTION:
URL:https://www.scribnerroadpta.org/planetscience/calendar/meeting-1-seneca-park-zoomobile/
LOCATION:Scribner Road Elementary School\, 1750 Scribner Road\, Penfield\, 14526\, United States
END:VEVENT
BEGIN:VEVENT
DTSTART;TZID=America/New_York:20230517T153000
DTEND;TZID=America/New_York:20230517T163000
DTSTAMP:20260423T154430
CREATED:20221029T160019Z
LAST-MODIFIED:20221104T005209Z
UID:205-1684337400-1684341000@www.scribnerroadpta.org
SUMMARY:Meeting 6 Planet Science Finale – All “Hands On” Deck Day
DESCRIPTION:The students will rotate through stations for hands-on demonstrations and mini experiments.
URL:https://www.scribnerroadpta.org/planetscience/calendar/meeting-6-planet-science-finale-all-hands-on-deck-day/
LOCATION:Scribner Road Elementary School\, 1750 Scribner Road\, Penfield\, 14526\, United States
END:VEVENT
BEGIN:VEVENT
DTSTART;TZID=America/New_York:20230419T153000
DTEND;TZID=America/New_York:20230419T163000
DTSTAMP:20260423T154430
CREATED:20221029T155921Z
LAST-MODIFIED:20221104T005420Z
UID:202-1681918200-1681921800@www.scribnerroadpta.org
SUMMARY:Meeting 5 - Exploring Energy & Matter
DESCRIPTION:Rochester Museum and Science Center demonstration
URL:https://www.scribnerroadpta.org/planetscience/calendar/meeting-5-exploring-energy-matter/
LOCATION:Scribner Road Elementary School\, 1750 Scribner Road\, Penfield\, 14526\, United States
END:VEVENT
BEGIN:VEVENT
DTSTART;TZID=America/New_York:20230315T183000
DTEND;TZID=America/New_York:20230315T193000
DTSTAMP:20260423T154430
CREATED:20221029T155811Z
LAST-MODIFIED:20221029T155811Z
UID:200-1678905000-1678908600@www.scribnerroadpta.org
SUMMARY:Meeting 4 - Annual Science Fair
DESCRIPTION:This date is optional for students who choose to do a science fair project. \nThere will be a separate sign-up for this sent out in January. \nRegardless of whether your child chooses to do a project or not\, we invite all parents and students to come and see the projects their peers are presenting.
URL:https://www.scribnerroadpta.org/planetscience/calendar/meeting-4-annual-science-fair/
LOCATION:Scribner Road Elementary School\, 1750 Scribner Road\, Penfield\, 14526\, United States
END:VEVENT
BEGIN:VEVENT
DTSTART;TZID=America/New_York:20230215T153000
DTEND;TZID=America/New_York:20230215T163000
DTSTAMP:20260423T154430
CREATED:20221029T155641Z
LAST-MODIFIED:20221104T005509Z
UID:198-1676475000-1676478600@www.scribnerroadpta.org
SUMMARY:Meeting 3 Building Bridges & Feeding Families
DESCRIPTION:Lego Engineering & Hypothesis testing \nPlanet Science Club will be using Lego Engineering kits to build bridges. \nWe will be having a canned food drive as well.\nEach child should bring in 3 (or more) canned goods. \nWe’ll use our cans as weights to test the strength of our bridges\, and then afterward\, we’ll donate the goods to the Penfield Ecumenical Food Shelf.
URL:https://www.scribnerroadpta.org/planetscience/calendar/meeting-3-building-bridges-feeding-families/
LOCATION:Scribner Road Elementary School\, 1750 Scribner Road\, Penfield\, 14526\, United States
END:VEVENT
BEGIN:VEVENT
DTSTART;TZID=America/New_York:20230112T153000
DTEND;TZID=America/New_York:20230112T163000
DTSTAMP:20260423T154430
CREATED:20221029T155444Z
LAST-MODIFIED:20221029T155444Z
UID:196-1673537400-1673541000@www.scribnerroadpta.org
SUMMARY:Meeting 2
DESCRIPTION:Date is set for this one\, but we are still finalizing possible presenters. \nWe’re looking at Braddock Bay Raptor Research group who are studying birds of prey locally. \nWe’re also looking into a local physician who specializes in the medical science of prosthetic devices.
URL:https://www.scribnerroadpta.org/planetscience/calendar/meeting-2/
LOCATION:Scribner Road Elementary School\, 1750 Scribner Road\, Penfield\, 14526\, United States
END:VEVENT
BEGIN:VEVENT
DTSTART;TZID=America/New_York:20221207T153000
DTEND;TZID=America/New_York:20221207T170000
DTSTAMP:20260423T154430
CREATED:20221029T151452Z
LAST-MODIFIED:20221029T151452Z
UID:189-1670427000-1670432400@www.scribnerroadpta.org
SUMMARY:Meeting 1 Planet Science Kickoff – The Science of Hot Air Balloons
DESCRIPTION:Liberty Balloon Company
URL:https://www.scribnerroadpta.org/planetscience/calendar/meeting-1-planet-science-kickoff-the-science-of-hot-air-balloons/
LOCATION:Scribner Road Elementary School\, 1750 Scribner Road\, Penfield\, 14526\, United States
END:VEVENT
BEGIN:VEVENT
DTSTART;TZID=America/New_York:20221101T180000
DTEND;TZID=America/New_York:20221101T180000
DTSTAMP:20260423T154430
CREATED:20221029T160232Z
LAST-MODIFIED:20221029T160232Z
UID:207-1667325600-1667325600@www.scribnerroadpta.org
SUMMARY:2022 Planet Science Registration Open
DESCRIPTION:Limited to 60 students.
URL:https://www.scribnerroadpta.org/planetscience/calendar/2022-planet-science-registration-open/
END:VEVENT
BEGIN:VEVENT
DTSTART;VALUE=DATE:20200528
DTEND;VALUE=DATE:20200529
DTSTAMP:20260423T154430
CREATED:20191006T045514Z
LAST-MODIFIED:20191006T045514Z
UID:103-1590624000-1590710399@www.scribnerroadpta.org
SUMMARY:Meeting 6 - Planet Science Finale – A special presenter in the works!
DESCRIPTION:
URL:https://www.scribnerroadpta.org/planetscience/calendar/meeting-6-planet-science-finale-a-special-presenter-in-the-works/
END:VEVENT
BEGIN:VEVENT
DTSTART;TZID=America/New_York:20200423T153000
DTEND;TZID=America/New_York:20200423T163000
DTSTAMP:20260423T154430
CREATED:20191006T045356Z
LAST-MODIFIED:20191006T045356Z
UID:101-1587655800-1587659400@www.scribnerroadpta.org
SUMMARY:Meeting 5 - Getting Slimy with Dr. Seuss (2nd Graders)
DESCRIPTION:
URL:https://www.scribnerroadpta.org/planetscience/calendar/meeting-5-getting-slimy-with-dr-seuss-2nd-graders/
END:VEVENT
BEGIN:VEVENT
DTSTART;TZID=America/New_York:20200416T153000
DTEND;TZID=America/New_York:20200416T163000
DTSTAMP:20260423T154430
CREATED:20191006T045315Z
LAST-MODIFIED:20191006T045315Z
UID:99-1587051000-1587054600@www.scribnerroadpta.org
SUMMARY:Meeting 5 - Getting Slimy with Dr. Seuss (3rd Graders)
DESCRIPTION:
URL:https://www.scribnerroadpta.org/planetscience/calendar/meeting-5-getting-slimy-with-dr-seuss-3rd-graders/
END:VEVENT
BEGIN:VEVENT
DTSTART;TZID=America/New_York:20200305T153000
DTEND;TZID=America/New_York:20200305T163000
DTSTAMP:20260423T154430
CREATED:20191006T045203Z
LAST-MODIFIED:20191006T045203Z
UID:97-1583422200-1583425800@www.scribnerroadpta.org
SUMMARY:Meeting 4 - Building Bridges & Feeding Families (2nd Graders)
DESCRIPTION:Planet Science Club will be using Lego Engineering kits to build bridges.\nWe will be having a canned food drive as well.\nEach child should bring in 3 (or more) canned goods.\nWe’ll use our cans as weights to test the strength of our bridges\, and then afterward\, we’ll donate the goods to the Penfield Ecumenical Food Shelf
URL:https://www.scribnerroadpta.org/planetscience/calendar/meeting-4-building-bridges-feeding-families-2nd-graders/
END:VEVENT
BEGIN:VEVENT
DTSTART;TZID=America/New_York:20200227T153000
DTEND;TZID=America/New_York:20200227T163000
DTSTAMP:20260423T154430
CREATED:20191006T045046Z
LAST-MODIFIED:20191006T045046Z
UID:95-1582817400-1582821000@www.scribnerroadpta.org
SUMMARY:Meeting 4 - Building Bridges & Feeding Families (3rd Graders)
DESCRIPTION:Sylvan Learning Center – Lego Engineering \nPlanet Science Club will be using Lego Engineering kits to build bridges.\nWe will be having a canned food drive as well.\nEach child should bring in 3 (or more) canned goods.\nWe’ll use our cans as weights to test the strength of our bridges\, and then afterward\, we’ll donate the goods to the Penfield Ecumenical Food Shelf
URL:https://www.scribnerroadpta.org/planetscience/calendar/meeting-4-building-bridges-feeding-families-3rd-graders/
END:VEVENT
BEGIN:VEVENT
DTSTART;TZID=America/New_York:20200116T183000
DTEND;TZID=America/New_York:20200116T193000
DTSTAMP:20260423T154430
CREATED:20191006T044857Z
LAST-MODIFIED:20191006T044857Z
UID:93-1579199400-1579203000@www.scribnerroadpta.org
SUMMARY:Meeting 3 - Annual Science Fair
DESCRIPTION:This date is optional for students who choose to do a science fair project.\nThere will be a separate sign-up for this in December.\nRegardless of whether your child chooses to do a project or not\, we invite all parents and students to come and see the projects their peers are presenting.
URL:https://www.scribnerroadpta.org/planetscience/calendar/meeting-3-annual-science-fair/
END:VEVENT
BEGIN:VEVENT
DTSTART;TZID=America/New_York:20191219T153000
DTEND;TZID=America/New_York:20191219T163000
DTSTAMP:20260423T154430
CREATED:20191006T042021Z
LAST-MODIFIED:20191006T042021Z
UID:91-1576769400-1576773000@www.scribnerroadpta.org
SUMMARY:Meeting 2 - Exploring the Holidays with our 5 Senses (2nd Graders)
DESCRIPTION:
URL:https://www.scribnerroadpta.org/planetscience/calendar/meeting-2-exploring-the-holidays-with-our-5-senses-2nd-graders/
END:VEVENT
BEGIN:VEVENT
DTSTART;TZID=America/New_York:20191212T153000
DTEND;TZID=America/New_York:20191212T163000
DTSTAMP:20260423T154430
CREATED:20191006T041939Z
LAST-MODIFIED:20191006T041939Z
UID:89-1576164600-1576168200@www.scribnerroadpta.org
SUMMARY:Meeting 2 - Exploring the Holidays with our 5 Senses (3rd Graders)
DESCRIPTION:
URL:https://www.scribnerroadpta.org/planetscience/calendar/meeting-2-exploring-the-holidays-with-our-5-senses-3rd-graders/
END:VEVENT
BEGIN:VEVENT
DTSTART;TZID=America/New_York:20191121T153000
DTEND;TZID=America/New_York:20191121T163000
DTSTAMP:20260423T154430
CREATED:20191006T022137Z
LAST-MODIFIED:20191006T022137Z
UID:83-1574350200-1574353800@www.scribnerroadpta.org
SUMMARY:Meeting 1 - Solids\, Liquids\, & Gases (All planet science kids)
DESCRIPTION:
URL:https://www.scribnerroadpta.org/planetscience/calendar/meeting-1-solids-liquids-gases-all-planet-science-kids/
END:VEVENT
BEGIN:VEVENT
DTSTART;TZID=America/New_York:20191013T150000
DTEND;TZID=America/New_York:20191019T170000
DTSTAMP:20260423T154430
CREATED:20191006T021819Z
LAST-MODIFIED:20191006T021819Z
UID:80-1570978800-1571504400@www.scribnerroadpta.org
SUMMARY:Registration Opens
DESCRIPTION:
URL:https://www.scribnerroadpta.org/planetscience/calendar/registration-opens/
END:VEVENT
END:VCALENDAR