BEGIN:VCALENDAR
VERSION:2.0
PRODID:-//Planet Science Club - ECPv6.15.20//NONSGML v1.0//EN
CALSCALE:GREGORIAN
METHOD:PUBLISH
X-ORIGINAL-URL:https://www.scribnerroadpta.org/planetscience
X-WR-CALDESC:Events for Planet Science Club
REFRESH-INTERVAL;VALUE=DURATION:PT1H
X-Robots-Tag:noindex
X-PUBLISHED-TTL:PT1H
BEGIN:VTIMEZONE
TZID:America/New_York
BEGIN:DAYLIGHT
TZOFFSETFROM:-0500
TZOFFSETTO:-0400
TZNAME:EDT
DTSTART:20180311T070000
END:DAYLIGHT
BEGIN:STANDARD
TZOFFSETFROM:-0400
TZOFFSETTO:-0500
TZNAME:EST
DTSTART:20181104T060000
END:STANDARD
BEGIN:DAYLIGHT
TZOFFSETFROM:-0500
TZOFFSETTO:-0400
TZNAME:EDT
DTSTART:20190310T070000
END:DAYLIGHT
BEGIN:STANDARD
TZOFFSETFROM:-0400
TZOFFSETTO:-0500
TZNAME:EST
DTSTART:20191103T060000
END:STANDARD
BEGIN:DAYLIGHT
TZOFFSETFROM:-0500
TZOFFSETTO:-0400
TZNAME:EDT
DTSTART:20200308T070000
END:DAYLIGHT
BEGIN:STANDARD
TZOFFSETFROM:-0400
TZOFFSETTO:-0500
TZNAME:EST
DTSTART:20201101T060000
END:STANDARD
END:VTIMEZONE
BEGIN:VEVENT
DTSTART;TZID=America/New_York:20191212T153000
DTEND;TZID=America/New_York:20191212T163000
DTSTAMP:20260423T185844
CREATED:20191006T041939Z
LAST-MODIFIED:20191006T041939Z
UID:89-1576164600-1576168200@www.scribnerroadpta.org
SUMMARY:Meeting 2 - Exploring the Holidays with our 5 Senses (3rd Graders)
DESCRIPTION:
URL:https://www.scribnerroadpta.org/planetscience/calendar/meeting-2-exploring-the-holidays-with-our-5-senses-3rd-graders/
END:VEVENT
BEGIN:VEVENT
DTSTART;TZID=America/New_York:20191121T153000
DTEND;TZID=America/New_York:20191121T163000
DTSTAMP:20260423T185844
CREATED:20191006T022137Z
LAST-MODIFIED:20191006T022137Z
UID:83-1574350200-1574353800@www.scribnerroadpta.org
SUMMARY:Meeting 1 - Solids\, Liquids\, & Gases (All planet science kids)
DESCRIPTION:
URL:https://www.scribnerroadpta.org/planetscience/calendar/meeting-1-solids-liquids-gases-all-planet-science-kids/
END:VEVENT
BEGIN:VEVENT
DTSTART;TZID=America/New_York:20191013T150000
DTEND;TZID=America/New_York:20191019T170000
DTSTAMP:20260423T185844
CREATED:20191006T021819Z
LAST-MODIFIED:20191006T021819Z
UID:80-1570978800-1571504400@www.scribnerroadpta.org
SUMMARY:Registration Opens
DESCRIPTION:
URL:https://www.scribnerroadpta.org/planetscience/calendar/registration-opens/
END:VEVENT
END:VCALENDAR